BEGIN:VCALENDAR
VERSION:2.0
PRODID:-//BGL Corporate Solutions Pty Ltd - ECPv6.15.13//NONSGML v1.0//EN
CALSCALE:GREGORIAN
METHOD:PUBLISH
X-ORIGINAL-URL:https://www.bglcorp.com
X-WR-CALDESC:Events for BGL Corporate Solutions Pty Ltd
REFRESH-INTERVAL;VALUE=DURATION:PT1H
X-Robots-Tag:noindex
X-PUBLISHED-TTL:PT1H
BEGIN:VTIMEZONE
TZID:Australia/Melbourne
BEGIN:STANDARD
TZOFFSETFROM:+1100
TZOFFSETTO:+1000
TZNAME:AEST
DTSTART:20250405T160000
END:STANDARD
BEGIN:DAYLIGHT
TZOFFSETFROM:+1000
TZOFFSETTO:+1100
TZNAME:AEDT
DTSTART:20251004T160000
END:DAYLIGHT
BEGIN:STANDARD
TZOFFSETFROM:+1100
TZOFFSETTO:+1000
TZNAME:AEST
DTSTART:20260404T160000
END:STANDARD
BEGIN:DAYLIGHT
TZOFFSETFROM:+1000
TZOFFSETTO:+1100
TZNAME:AEDT
DTSTART:20261003T160000
END:DAYLIGHT
BEGIN:STANDARD
TZOFFSETFROM:+1100
TZOFFSETTO:+1000
TZNAME:AEST
DTSTART:20270403T160000
END:STANDARD
BEGIN:DAYLIGHT
TZOFFSETFROM:+1000
TZOFFSETTO:+1100
TZNAME:AEDT
DTSTART:20271002T160000
END:DAYLIGHT
END:VTIMEZONE
BEGIN:VEVENT
DTSTART;TZID=Australia/Melbourne:20260505T140000
DTEND;TZID=Australia/Melbourne:20260525T150000
DTSTAMP:20260421T134432
CREATED:20260421T084055Z
LAST-MODIFIED:20260421T084055Z
UID:88495-1777989600-1779721200@www.bglcorp.com
SUMMARY:Webinar: Division 296 — Turning implications into action — timing\, sequencing and real SMSF decisions
DESCRIPTION:Join BGL and TAG Financial for a 1-hour Division 296 webinar to explore how timing\, sequencing and asset decisions can materially change tax and estate outcomes and where accountants need to pause and involve licensed financial advice. \nWhat will you learn? \n– How timing alone (e.g. 30 June vs 1 July) can create significant differences in SMSF tax outcomes.\n– Which Division 296 impacts accountants can safely quantify and model\, and where advice boundaries are crossed.\n– How pension vs accumulation balances\, asset sequencing and in‑specie transfers affect outcomes.\n– The one‑off planning window leading into 2026–27 and why “wait and see” can be costly.\n– Practical triage: identifying which SMSF clients need deeper strategy conversations now.\n– When and why a licensed financial planner should be involved and how to collaborate effectively. \n📅 Tuesday\, 5 May 2026\, 14:00 – 15:00 AEST \nREGISTER NOW
URL:https://www.bglcorp.com/event/webinar-division-296-turning-implications-into-action-timing-sequencing-and-real-smsf-decisions/
LOCATION:Webinar
CATEGORIES:Webinars
ORGANIZER;CN="BGL Corporate Solutions Pty Ltd":MAILTO:events@bglcorp.com.au
END:VEVENT
END:VCALENDAR